BEGIN:VCALENDAR
VERSION:2.0
PRODID:-//AVF-Deutschland e.V. - ECPv6.15.20//NONSGML v1.0//EN
CALSCALE:GREGORIAN
METHOD:PUBLISH
X-ORIGINAL-URL:https://avf-deutschland.eu
X-WR-CALDESC:Veranstaltungen fÃ¼r AVF-Deutschland e.V.
REFRESH-INTERVAL;VALUE=DURATION:PT1H
X-Robots-Tag:noindex
X-PUBLISHED-TTL:PT1H
BEGIN:VTIMEZONE
TZID:Europe/Berlin
BEGIN:DAYLIGHT
TZOFFSETFROM:+0100
TZOFFSETTO:+0200
TZNAME:CEST
DTSTART:20240331T010000
END:DAYLIGHT
BEGIN:STANDARD
TZOFFSETFROM:+0200
TZOFFSETTO:+0100
TZNAME:CET
DTSTART:20241027T010000
END:STANDARD
BEGIN:DAYLIGHT
TZOFFSETFROM:+0100
TZOFFSETTO:+0200
TZNAME:CEST
DTSTART:20250330T010000
END:DAYLIGHT
BEGIN:STANDARD
TZOFFSETFROM:+0200
TZOFFSETTO:+0100
TZNAME:CET
DTSTART:20251026T010000
END:STANDARD
BEGIN:DAYLIGHT
TZOFFSETFROM:+0100
TZOFFSETTO:+0200
TZNAME:CEST
DTSTART:20260329T010000
END:DAYLIGHT
BEGIN:STANDARD
TZOFFSETFROM:+0200
TZOFFSETTO:+0100
TZNAME:CET
DTSTART:20261025T010000
END:STANDARD
END:VTIMEZONE
BEGIN:VEVENT
DTSTART;TZID=Europe/Berlin:20251004T104500
DTEND;TZID=Europe/Berlin:20251005T180000
DTSTAMP:20260423T141200
CREATED:20250619T204552Z
LAST-MODIFIED:20250914T122858Z
UID:3288-1759574700-1759687200@avf-deutschland.eu
SUMMARY:Regionalgruppe Schleswig-Holstein - MehrtÃ¤gige Herbstausfahrt nach Bruchhausen-Vilsen
DESCRIPTION:Die Herbstausfahrt der Regionalgruppe geht zunÃ¤chst zur Ãœbernachtung in das Hotel -Forsthaus Heiligenberg in Bruchhausen-Vilsen- u.a. mit einem gemeinsamen Abendessen. Â  Am folgenden Tag fahren wir zum Museumsbahnhof von Bruchausen-Vilsen und besuchen dort Deutschlands Ã¤lteste Museums-Eisenbahn. Neben der Besichtigung der historischen Bahnhof- und WerkstattgebÃ¤ude fahren wir mit der mit Museumseisenbahn nach Asendorf und zurÃ¼ck. Teilnahme nur nach Anmeldung bei Heribert Simon mÃ¶glich. Â  Â  Â  Â  Â  Â  Â  Â  Â  Â  Â  Â  Â  Â  Â  Â  Â (Telefon: 04829 960452 oder Mail: kontakt.avfdeutschland@gmail.com)
URL:https://avf-deutschland.eu/event/2025-rg-hamburg-2/
LOCATION:Bruchhausen-Vilsen\, Museumsbahnhof\, Bruchausen-Vilsen\, Niedersachsen\, 27305\, Germany
ATTACH;FMTTYPE=image/png:https://avf-deutschland.eu/wp-content/uploads/2025/04/rg-s-h.png
ORGANIZER;CN="RG Schleswig-Holstein":MAILTO:kontakt.avfdeutschland@gmail.com
END:VEVENT
BEGIN:VEVENT
DTSTART;TZID=Europe/Berlin:20250921T090000
DTEND;TZID=Europe/Berlin:20250921T170000
DTSTAMP:20260423T141200
CREATED:20250818T212433Z
LAST-MODIFIED:20250821T082743Z
UID:4806-1758445200-1758474000@avf-deutschland.eu
SUMMARY:Regionalgruppe Nordrhein-Westfalen - Ausfahrt zur letzten Wertungsfahrt zur RG-Clubmeisterschaft
DESCRIPTION:Die Ausfahrt &#8220; Kreuz und Quer durch die Self Kant\, lasset die Spiele beginnen &#8222;\, wird die letzte Wertungsfahrt zur Regionalgruppe-Meisterschaft. Mehr Informationen auf dem Clubabend und bei Karl-Dieter Fischer (Mobil: 01573-7831972) \n 
URL:https://avf-deutschland.eu/event/regionalgruppe-nordrhein-westfalen-ausfahrt-zur-letzen-wertungfahrt-zur-rg-clubmeisterschaft/
LOCATION:Selfkant\, Selfkant\, NRW\, 52538
ATTACH;FMTTYPE=image/jpeg:https://avf-deutschland.eu/wp-content/uploads/2025/04/rg-nordrhein-westfalen.jpg
ORGANIZER;CN="RG Nordrhein-Westfalen":MAILTO:kadefischer@arcor.de
END:VEVENT
BEGIN:VEVENT
DTSTART;VALUE=DATE:20250817
DTEND;VALUE=DATE:20250818
DTSTAMP:20260423T141200
CREATED:20250619T203045Z
LAST-MODIFIED:20250619T205259Z
UID:3547-1755417600-1755417600@avf-deutschland.eu
SUMMARY:Regionalgruppe Nordrhein-Westfalen - Mit den Oldies durch die Eifel
DESCRIPTION:Bei der 3. Ausfahrt der Regionalgruppe geht es mit den Veteranenfahrzeugen durch die Eifel. NÃ¤here Informationen bei Karl-Dieter Fischer oder beim monatlichen Stammtisch der Regionalgruppe.
URL:https://avf-deutschland.eu/event/2024-rg-rheinland-altweiber-sommertour-durch-die-staedteregion-aachens/
LOCATION:Niedersachsenm
ATTACH;FMTTYPE=image/jpeg:https://avf-deutschland.eu/wp-content/uploads/2025/04/rg-nordrhein-westfalen.jpg
ORGANIZER;CN="RG Nordrhein-Westfalen":MAILTO:kadefischer@arcor.de
END:VEVENT
END:VCALENDAR