BEGIN:VCALENDAR
VERSION:2.0
PRODID:-//AVF-Deutschland e.V. - ECPv6.15.20//NONSGML v1.0//EN
CALSCALE:GREGORIAN
METHOD:PUBLISH
X-WR-CALNAME:AVF-Deutschland e.V.
X-ORIGINAL-URL:https://avf-deutschland.eu
X-WR-CALDESC:Veranstaltungen für AVF-Deutschland e.V.
REFRESH-INTERVAL;VALUE=DURATION:PT1H
X-Robots-Tag:noindex
X-PUBLISHED-TTL:PT1H
BEGIN:VTIMEZONE
TZID:Europe/Berlin
BEGIN:DAYLIGHT
TZOFFSETFROM:+0100
TZOFFSETTO:+0200
TZNAME:CEST
DTSTART:20240331T010000
END:DAYLIGHT
BEGIN:STANDARD
TZOFFSETFROM:+0200
TZOFFSETTO:+0100
TZNAME:CET
DTSTART:20241027T010000
END:STANDARD
BEGIN:DAYLIGHT
TZOFFSETFROM:+0100
TZOFFSETTO:+0200
TZNAME:CEST
DTSTART:20250330T010000
END:DAYLIGHT
BEGIN:STANDARD
TZOFFSETFROM:+0200
TZOFFSETTO:+0100
TZNAME:CET
DTSTART:20251026T010000
END:STANDARD
BEGIN:DAYLIGHT
TZOFFSETFROM:+0100
TZOFFSETTO:+0200
TZNAME:CEST
DTSTART:20260329T010000
END:DAYLIGHT
BEGIN:STANDARD
TZOFFSETFROM:+0200
TZOFFSETTO:+0100
TZNAME:CET
DTSTART:20261025T010000
END:STANDARD
END:VTIMEZONE
BEGIN:VEVENT
DTSTART;TZID=Europe/Berlin:20251004T104500
DTEND;TZID=Europe/Berlin:20251005T180000
DTSTAMP:20260424T060132
CREATED:20250619T204552Z
LAST-MODIFIED:20250914T122858Z
UID:3288-1759574700-1759687200@avf-deutschland.eu
SUMMARY:Regionalgruppe Schleswig-Holstein - Mehrtägige Herbstausfahrt nach Bruchhausen-Vilsen
DESCRIPTION:Die Herbstausfahrt der Regionalgruppe geht zunächst zur Übernachtung in das Hotel -Forsthaus Heiligenberg in Bruchhausen-Vilsen- u.a. mit einem gemeinsamen Abendessen.   Am folgenden Tag fahren wir zum Museumsbahnhof von Bruchausen-Vilsen und besuchen dort Deutschlands älteste Museums-Eisenbahn. Neben der Besichtigung der historischen Bahnhof- und Werkstattgebäude fahren wir mit der mit Museumseisenbahn nach Asendorf und zurück. Teilnahme nur nach Anmeldung bei Heribert Simon möglich.                                  (Telefon: 04829 960452 oder Mail: kontakt.avfdeutschland@gmail.com)
URL:https://avf-deutschland.eu/event/2025-rg-hamburg-2/
LOCATION:Bruchhausen-Vilsen\, Museumsbahnhof\, Bruchausen-Vilsen\, Niedersachsen\, 27305\, Germany
ATTACH;FMTTYPE=image/png:https://avf-deutschland.eu/wp-content/uploads/2025/04/rg-s-h.png
ORGANIZER;CN="RG Schleswig-Holstein":MAILTO:kontakt.avfdeutschland@gmail.com
END:VEVENT
END:VCALENDAR